BEGIN:VCALENDAR
VERSION:2.0
PRODID:-//Skeiv Verden - ECPv6.15.20//NONSGML v1.0//EN
CALSCALE:GREGORIAN
METHOD:PUBLISH
X-WR-CALNAME:Skeiv Verden
X-ORIGINAL-URL:https://www.skeivverden.no/en
X-WR-CALDESC:Events for Skeiv Verden
REFRESH-INTERVAL;VALUE=DURATION:PT1H
X-Robots-Tag:noindex
X-PUBLISHED-TTL:PT1H
BEGIN:VTIMEZONE
TZID:UTC
BEGIN:STANDARD
TZOFFSETFROM:+0000
TZOFFSETTO:+0000
TZNAME:UTC
DTSTART:20230101T000000
END:STANDARD
END:VTIMEZONE
BEGIN:VEVENT
DTSTART;TZID=UTC:20241226T170000
DTEND;TZID=UTC:20241226T190000
DTSTAMP:20260419T122451
CREATED:20240417T155306Z
LAST-MODIFIED:20240516T094515Z
UID:10000246-1735232400-1735239600@www.skeivverden.no
SUMMARY:Sentralstyremøte / Central board meeting
DESCRIPTION:Møte i Sentralstyret for Skeiv Verden. Møtedatoene for hele styreåret er offentliggjort på kalenderen\, og en gang i måneden med pause i Juli. \n\n\n\n\n\n\n\n\n\n\n\nCentral board meeting for Skeiv Verden (Queer World). The dates for all of the board year are published here in the calender. The meetings are once a month\, with a break in July.
URL:https://www.skeivverden.no/en/event/sentralstyremote-central-board-meeting/2024-12-26/
LOCATION:Skeiv Verden Oslo\, Torggata 1\, Oslo\, 0181\, Norway
END:VEVENT
BEGIN:VEVENT
DTSTART;TZID=UTC:20241231T110000
DTEND;TZID=UTC:20241231T170000
DTSTAMP:20260419T122451
CREATED:20240417T153425Z
LAST-MODIFIED:20240516T094646Z
UID:10000198-1735642800-1735664400@www.skeivverden.no
SUMMARY:Kontordag i Trondheim
DESCRIPTION:Trenger du noen å snakke med\, finne ut av noe eller treffe våre frivillig?\nSkeiv Verden Midt-Norge har kontor på Skeivt hus i Trondheim
URL:https://www.skeivverden.no/en/event/kontordag-i-trondheim/2024-12-31/
LOCATION:Skeiv Verden Midt-Norge\, Prinsens gate 46\, Trondheim\, 7011\, Norway
ATTACH;FMTTYPE=image/png:https://www.skeivverden.no/wp-content/uploads/2024/04/Trondheim-Kalendergral.png
END:VEVENT
BEGIN:VEVENT
DTSTART;TZID=UTC:20250101T170000
DTEND;TZID=UTC:20250101T203000
DTSTAMP:20260419T122451
CREATED:20241018T062624Z
LAST-MODIFIED:20241120T140212Z
UID:10000607-1735750800-1735763400@www.skeivverden.no
SUMMARY:Skeiv Verden UNG
DESCRIPTION:
URL:https://www.skeivverden.no/en/event/skeiv-verden-ung-2/2025-01-01/
LOCATION:Skeiv Verden Oslo\, Torggata 1\, Oslo\, 0181\, Norway
CATEGORIES:UNG
ATTACH;FMTTYPE=image/png:https://www.skeivverden.no/wp-content/uploads/2024/04/UNG.png
END:VEVENT
BEGIN:VEVENT
DTSTART;TZID=UTC:20250102T180000
DTEND;TZID=UTC:20250102T180000
DTSTAMP:20260419T122451
CREATED:20240906T102128Z
LAST-MODIFIED:20240906T102128Z
UID:10000398-1735840800-1735840800@www.skeivverden.no
SUMMARY:Skeiv Kafe - Skeiv Verden Vest
DESCRIPTION:Bli med oss\, lag og spis mat sammen\, møt nye venner og skape tilhørighet i vår største samling hver måned i våre lokaler.
URL:https://www.skeivverden.no/en/event/skeiv-kafe-skeiv-verden-vest-2/2025-01-02/
LOCATION:Skeiv Verden Vest\, Strandgaten 6\, Bergen\, 5013\, Norway
CATEGORIES:Skeiv Kafe
ATTACH;FMTTYPE=image/webp:https://www.skeivverden.no/wp-content/uploads/2024/04/Skeiv-kafe-Vest.webp
ORGANIZER;CN="Skeiv Verden Vest":MAILTO:vest@skeivverden.no
END:VEVENT
BEGIN:VEVENT
DTSTART;TZID=UTC:20250107T110000
DTEND;TZID=UTC:20250107T170000
DTSTAMP:20260419T122451
CREATED:20240417T153425Z
LAST-MODIFIED:20240516T094646Z
UID:10000199-1736247600-1736269200@www.skeivverden.no
SUMMARY:Kontordag i Trondheim
DESCRIPTION:Trenger du noen å snakke med\, finne ut av noe eller treffe våre frivillig?\nSkeiv Verden Midt-Norge har kontor på Skeivt hus i Trondheim
URL:https://www.skeivverden.no/en/event/kontordag-i-trondheim/2025-01-07/
LOCATION:Skeiv Verden Midt-Norge\, Prinsens gate 46\, Trondheim\, 7011\, Norway
ATTACH;FMTTYPE=image/png:https://www.skeivverden.no/wp-content/uploads/2024/04/Trondheim-Kalendergral.png
END:VEVENT
BEGIN:VEVENT
DTSTART;TZID=UTC:20250114T110000
DTEND;TZID=UTC:20250114T170000
DTSTAMP:20260419T122451
CREATED:20240417T153425Z
LAST-MODIFIED:20240516T094646Z
UID:10000200-1736852400-1736874000@www.skeivverden.no
SUMMARY:Kontordag i Trondheim
DESCRIPTION:Trenger du noen å snakke med\, finne ut av noe eller treffe våre frivillig?\nSkeiv Verden Midt-Norge har kontor på Skeivt hus i Trondheim
URL:https://www.skeivverden.no/en/event/kontordag-i-trondheim/2025-01-14/
LOCATION:Skeiv Verden Midt-Norge\, Prinsens gate 46\, Trondheim\, 7011\, Norway
ATTACH;FMTTYPE=image/png:https://www.skeivverden.no/wp-content/uploads/2024/04/Trondheim-Kalendergral.png
END:VEVENT
BEGIN:VEVENT
DTSTART;TZID=UTC:20250114T170000
DTEND;TZID=UTC:20250114T200000
DTSTAMP:20260419T122451
CREATED:20250106T215246Z
LAST-MODIFIED:20250520T083625Z
UID:10000348-1736874000-1736884800@www.skeivverden.no
SUMMARY:FOLK
DESCRIPTION:Folk er en dedikert møteplass av og for skeive kvinner\, transpersoner eller ikke-binære personer med ulik bakgrunn. Vil du bli kjent med hyggelige folk i en trygg setting\, dele dine erfaringer og være med på å skape aktiviteter som gjør at vi blir bedre kjent med hverandre? Bli med på Folk! \nVi samles to ganger i måneden i Oslo og du er hjertelig velkommen! \nFor å delta på FOLK samlinger\, ta kontakt med prosjektleder Newt Petride på newt@skeivverden.no \nFOLK is a dedicated meeting place by and for queer women\, trans people and non-binary people with different backgrounds. If you want to get to know nice people in a safe envoiroment\, share your experiences and be part of creating sosial activities that focus on community building and stengthening relations in the group? Be part of FOLK! \nWe gather every second week in Oslo\, and you are more than welcome! \nTo participate at FOLK gathering\, contact the project leader Newt Petride at newt@skeivverden.no.
URL:https://www.skeivverden.no/en/event/folk-2-2/2025-01-14/
LOCATION:Skeiv Verden Oslo\, Torggata 1\, Oslo\, 0181\, Norway
CATEGORIES:FOLK
ATTACH;FMTTYPE=image/png:https://www.skeivverden.no/wp-content/uploads/2025/01/facebook-nettside-arrangement-generell-pride-500-x-281-px.png
END:VEVENT
BEGIN:VEVENT
DTSTART;TZID=UTC:20250115T170000
DTEND;TZID=UTC:20250115T203000
DTSTAMP:20260419T122451
CREATED:20241018T062624Z
LAST-MODIFIED:20241120T140212Z
UID:10000608-1736960400-1736973000@www.skeivverden.no
SUMMARY:Skeiv Verden UNG
DESCRIPTION:
URL:https://www.skeivverden.no/en/event/skeiv-verden-ung-2/2025-01-15/
LOCATION:Skeiv Verden Oslo\, Torggata 1\, Oslo\, 0181\, Norway
CATEGORIES:UNG
ATTACH;FMTTYPE=image/png:https://www.skeivverden.no/wp-content/uploads/2024/04/UNG.png
END:VEVENT
BEGIN:VEVENT
DTSTART;TZID=UTC:20250121T110000
DTEND;TZID=UTC:20250121T170000
DTSTAMP:20260419T122451
CREATED:20240417T153425Z
LAST-MODIFIED:20240516T094646Z
UID:10000201-1737457200-1737478800@www.skeivverden.no
SUMMARY:Kontordag i Trondheim
DESCRIPTION:Trenger du noen å snakke med\, finne ut av noe eller treffe våre frivillig?\nSkeiv Verden Midt-Norge har kontor på Skeivt hus i Trondheim
URL:https://www.skeivverden.no/en/event/kontordag-i-trondheim/2025-01-21/
LOCATION:Skeiv Verden Midt-Norge\, Prinsens gate 46\, Trondheim\, 7011\, Norway
ATTACH;FMTTYPE=image/png:https://www.skeivverden.no/wp-content/uploads/2024/04/Trondheim-Kalendergral.png
END:VEVENT
BEGIN:VEVENT
DTSTART;TZID=UTC:20250123T170000
DTEND;TZID=UTC:20250123T190000
DTSTAMP:20260419T122451
CREATED:20240417T155306Z
LAST-MODIFIED:20240516T094515Z
UID:10000247-1737651600-1737658800@www.skeivverden.no
SUMMARY:Sentralstyremøte / Central board meeting
DESCRIPTION:Møte i Sentralstyret for Skeiv Verden. Møtedatoene for hele styreåret er offentliggjort på kalenderen\, og en gang i måneden med pause i Juli. \n\n\n\n\n\n\n\n\n\n\n\nCentral board meeting for Skeiv Verden (Queer World). The dates for all of the board year are published here in the calender. The meetings are once a month\, with a break in July.
URL:https://www.skeivverden.no/en/event/sentralstyremote-central-board-meeting/2025-01-23/
LOCATION:Skeiv Verden Oslo\, Torggata 1\, Oslo\, 0181\, Norway
END:VEVENT
BEGIN:VEVENT
DTSTART;TZID=UTC:20250123T180000
DTEND;TZID=UTC:20250123T200000
DTSTAMP:20260419T122451
CREATED:20250109T212021Z
LAST-MODIFIED:20250109T212021Z
UID:10000699-1737655200-1737662400@www.skeivverden.no
SUMMARY:Skeiv Kafe Oslo 2025
DESCRIPTION:Welcome to Queer Café in Oslo\, everyone! \nQueer Café is a safe gathering space for LGBTQIA+ people with minority background\, where they are the majority and can meet others like themselves. \nIn Oslo every Thursday from 18:00 we gather to eat delicious food and have a good time! \nIf you have any questions you can send them to laura@skeivverden.no \nVelkommen til Skeiv Kafe i Oslo\, alle sammen! \nSkeiv Kafe er en trygg møteplass for LHBTQIA+ personer med minoritetsbakgrunn\, hvor de er majoriteten og kan møte andre som seg selv. \nI Oslo hver torsdag fra kl. 18:00 samles vi med deilig mat og god stemning! \nOm du har spørsmål kan du sende til laura@skeivverden.no
URL:https://www.skeivverden.no/en/event/skeiv-kafe-oslo-2025/2025-01-23/
LOCATION:Skeiv Verden Oslo\, Torggata 1\, Oslo\, 0181\, Norway
CATEGORIES:Skeiv Kafe
ATTACH;FMTTYPE=image/png:https://www.skeivverden.no/wp-content/uploads/2024/04/OSLO.png
END:VEVENT
BEGIN:VEVENT
DTSTART;TZID=UTC:20250128T110000
DTEND;TZID=UTC:20250128T170000
DTSTAMP:20260419T122451
CREATED:20240417T153425Z
LAST-MODIFIED:20240516T094646Z
UID:10000202-1738062000-1738083600@www.skeivverden.no
SUMMARY:Kontordag i Trondheim
DESCRIPTION:Trenger du noen å snakke med\, finne ut av noe eller treffe våre frivillig?\nSkeiv Verden Midt-Norge har kontor på Skeivt hus i Trondheim
URL:https://www.skeivverden.no/en/event/kontordag-i-trondheim/2025-01-28/
LOCATION:Skeiv Verden Midt-Norge\, Prinsens gate 46\, Trondheim\, 7011\, Norway
ATTACH;FMTTYPE=image/png:https://www.skeivverden.no/wp-content/uploads/2024/04/Trondheim-Kalendergral.png
END:VEVENT
BEGIN:VEVENT
DTSTART;TZID=UTC:20250128T170000
DTEND;TZID=UTC:20250128T200000
DTSTAMP:20260419T122451
CREATED:20250106T215246Z
LAST-MODIFIED:20250520T083625Z
UID:10000622-1738083600-1738094400@www.skeivverden.no
SUMMARY:FOLK
DESCRIPTION:Folk er en dedikert møteplass av og for skeive kvinner\, transpersoner eller ikke-binære personer med ulik bakgrunn. Vil du bli kjent med hyggelige folk i en trygg setting\, dele dine erfaringer og være med på å skape aktiviteter som gjør at vi blir bedre kjent med hverandre? Bli med på Folk! \nVi samles to ganger i måneden i Oslo og du er hjertelig velkommen! \nFor å delta på FOLK samlinger\, ta kontakt med prosjektleder Newt Petride på newt@skeivverden.no \nFOLK is a dedicated meeting place by and for queer women\, trans people and non-binary people with different backgrounds. If you want to get to know nice people in a safe envoiroment\, share your experiences and be part of creating sosial activities that focus on community building and stengthening relations in the group? Be part of FOLK! \nWe gather every second week in Oslo\, and you are more than welcome! \nTo participate at FOLK gathering\, contact the project leader Newt Petride at newt@skeivverden.no.
URL:https://www.skeivverden.no/en/event/folk-2-2/2025-01-28/
LOCATION:Skeiv Verden Oslo\, Torggata 1\, Oslo\, 0181\, Norway
CATEGORIES:FOLK
ATTACH;FMTTYPE=image/png:https://www.skeivverden.no/wp-content/uploads/2025/01/facebook-nettside-arrangement-generell-pride-500-x-281-px.png
END:VEVENT
BEGIN:VEVENT
DTSTART;TZID=UTC:20250129T170000
DTEND;TZID=UTC:20250129T203000
DTSTAMP:20260419T122451
CREATED:20241018T062624Z
LAST-MODIFIED:20241120T140212Z
UID:10000609-1738170000-1738182600@www.skeivverden.no
SUMMARY:Skeiv Verden UNG
DESCRIPTION:
URL:https://www.skeivverden.no/en/event/skeiv-verden-ung-2/2025-01-29/
LOCATION:Skeiv Verden Oslo\, Torggata 1\, Oslo\, 0181\, Norway
CATEGORIES:UNG
ATTACH;FMTTYPE=image/png:https://www.skeivverden.no/wp-content/uploads/2024/04/UNG.png
END:VEVENT
BEGIN:VEVENT
DTSTART;TZID=UTC:20250204T110000
DTEND;TZID=UTC:20250204T170000
DTSTAMP:20260419T122451
CREATED:20240417T153425Z
LAST-MODIFIED:20240516T094646Z
UID:10000203-1738666800-1738688400@www.skeivverden.no
SUMMARY:Kontordag i Trondheim
DESCRIPTION:Trenger du noen å snakke med\, finne ut av noe eller treffe våre frivillig?\nSkeiv Verden Midt-Norge har kontor på Skeivt hus i Trondheim
URL:https://www.skeivverden.no/en/event/kontordag-i-trondheim/2025-02-04/
LOCATION:Skeiv Verden Midt-Norge\, Prinsens gate 46\, Trondheim\, 7011\, Norway
ATTACH;FMTTYPE=image/png:https://www.skeivverden.no/wp-content/uploads/2024/04/Trondheim-Kalendergral.png
END:VEVENT
BEGIN:VEVENT
DTSTART;TZID=UTC:20250206T180000
DTEND;TZID=UTC:20250206T180000
DTSTAMP:20260419T122451
CREATED:20240906T102128Z
LAST-MODIFIED:20240906T102128Z
UID:10000399-1738864800-1738864800@www.skeivverden.no
SUMMARY:Skeiv Kafe - Skeiv Verden Vest
DESCRIPTION:Bli med oss\, lag og spis mat sammen\, møt nye venner og skape tilhørighet i vår største samling hver måned i våre lokaler.
URL:https://www.skeivverden.no/en/event/skeiv-kafe-skeiv-verden-vest-2/2025-02-06/
LOCATION:Skeiv Verden Vest\, Strandgaten 6\, Bergen\, 5013\, Norway
CATEGORIES:Skeiv Kafe
ATTACH;FMTTYPE=image/webp:https://www.skeivverden.no/wp-content/uploads/2024/04/Skeiv-kafe-Vest.webp
ORGANIZER;CN="Skeiv Verden Vest":MAILTO:vest@skeivverden.no
END:VEVENT
BEGIN:VEVENT
DTSTART;TZID=UTC:20250211T110000
DTEND;TZID=UTC:20250211T170000
DTSTAMP:20260419T122451
CREATED:20240417T153425Z
LAST-MODIFIED:20240516T094646Z
UID:10000204-1739271600-1739293200@www.skeivverden.no
SUMMARY:Kontordag i Trondheim
DESCRIPTION:Trenger du noen å snakke med\, finne ut av noe eller treffe våre frivillig?\nSkeiv Verden Midt-Norge har kontor på Skeivt hus i Trondheim
URL:https://www.skeivverden.no/en/event/kontordag-i-trondheim/2025-02-11/
LOCATION:Skeiv Verden Midt-Norge\, Prinsens gate 46\, Trondheim\, 7011\, Norway
ATTACH;FMTTYPE=image/png:https://www.skeivverden.no/wp-content/uploads/2024/04/Trondheim-Kalendergral.png
END:VEVENT
BEGIN:VEVENT
DTSTART;TZID=UTC:20250211T170000
DTEND;TZID=UTC:20250211T200000
DTSTAMP:20260419T122451
CREATED:20250106T215246Z
LAST-MODIFIED:20250520T083625Z
UID:10000623-1739293200-1739304000@www.skeivverden.no
SUMMARY:FOLK
DESCRIPTION:Folk er en dedikert møteplass av og for skeive kvinner\, transpersoner eller ikke-binære personer med ulik bakgrunn. Vil du bli kjent med hyggelige folk i en trygg setting\, dele dine erfaringer og være med på å skape aktiviteter som gjør at vi blir bedre kjent med hverandre? Bli med på Folk! \nVi samles to ganger i måneden i Oslo og du er hjertelig velkommen! \nFor å delta på FOLK samlinger\, ta kontakt med prosjektleder Newt Petride på newt@skeivverden.no \nFOLK is a dedicated meeting place by and for queer women\, trans people and non-binary people with different backgrounds. If you want to get to know nice people in a safe envoiroment\, share your experiences and be part of creating sosial activities that focus on community building and stengthening relations in the group? Be part of FOLK! \nWe gather every second week in Oslo\, and you are more than welcome! \nTo participate at FOLK gathering\, contact the project leader Newt Petride at newt@skeivverden.no.
URL:https://www.skeivverden.no/en/event/folk-2-2/2025-02-11/
LOCATION:Skeiv Verden Oslo\, Torggata 1\, Oslo\, 0181\, Norway
CATEGORIES:FOLK
ATTACH;FMTTYPE=image/png:https://www.skeivverden.no/wp-content/uploads/2025/01/facebook-nettside-arrangement-generell-pride-500-x-281-px.png
END:VEVENT
BEGIN:VEVENT
DTSTART;TZID=UTC:20250212T170000
DTEND;TZID=UTC:20250212T203000
DTSTAMP:20260419T122451
CREATED:20241018T062624Z
LAST-MODIFIED:20241120T140212Z
UID:10000610-1739379600-1739392200@www.skeivverden.no
SUMMARY:Skeiv Verden UNG
DESCRIPTION:
URL:https://www.skeivverden.no/en/event/skeiv-verden-ung-2/2025-02-12/
LOCATION:Skeiv Verden Oslo\, Torggata 1\, Oslo\, 0181\, Norway
CATEGORIES:UNG
ATTACH;FMTTYPE=image/png:https://www.skeivverden.no/wp-content/uploads/2024/04/UNG.png
END:VEVENT
BEGIN:VEVENT
DTSTART;TZID=UTC:20250218T110000
DTEND;TZID=UTC:20250218T170000
DTSTAMP:20260419T122451
CREATED:20240417T153425Z
LAST-MODIFIED:20240516T094646Z
UID:10000205-1739876400-1739898000@www.skeivverden.no
SUMMARY:Kontordag i Trondheim
DESCRIPTION:Trenger du noen å snakke med\, finne ut av noe eller treffe våre frivillig?\nSkeiv Verden Midt-Norge har kontor på Skeivt hus i Trondheim
URL:https://www.skeivverden.no/en/event/kontordag-i-trondheim/2025-02-18/
LOCATION:Skeiv Verden Midt-Norge\, Prinsens gate 46\, Trondheim\, 7011\, Norway
ATTACH;FMTTYPE=image/png:https://www.skeivverden.no/wp-content/uploads/2024/04/Trondheim-Kalendergral.png
END:VEVENT
BEGIN:VEVENT
DTSTART;TZID=UTC:20250221T204500
DTEND;TZID=UTC:20250221T214500
DTSTAMP:20260419T122451
CREATED:20250320T133538Z
LAST-MODIFIED:20250320T133538Z
UID:10000796-1740170700-1740174300@www.skeivverden.no
SUMMARY:Svømmekurs i Trondheim
DESCRIPTION:Velkommen til vårt svømmekurs i Trondheim! \nVeldig populær aktivitet i lokallaget! \nVi har begrense plasser. \nOm du vil være med\, kontakt gjerne Rie på 481 87 087  for mer informasjon\, påmelding og adresse.
URL:https://www.skeivverden.no/en/event/svommekurs-i-trondheim/2025-02-21/
CATEGORIES:LokalAktivitet
END:VEVENT
BEGIN:VEVENT
DTSTART;TZID=UTC:20250224T180000
DTEND;TZID=UTC:20250224T193000
DTSTAMP:20260419T122451
CREATED:20250128T105509Z
LAST-MODIFIED:20250128T105509Z
UID:10000701-1740420000-1740425400@www.skeivverden.no
SUMMARY:Skeiv språkkafé i Oslo vår 2025
DESCRIPTION:Velkommen til Skeiv Språkkafe! \nDen skeive språkkafeen er tilbake\, siste mandagen i måneden\, hver måned frem til sommeren! \nDette er for deg som vil øve norsken din med andre skeive med minoritetsbakgrunn på et trygt sted. \nFor å være med\, kan du bare møte opp den siste mandagen i måneden. \nDen drives av frivillige\, i Skeiv Verdens lokaler. \nDatoene for Skeiv kafé blir:\n24. februar\n24. mars\n28. april\n26. mai \nVil du bidra som frivillig på skeiv språkkafe? Send påmeldingskjema her: \nEngasjer deg
URL:https://www.skeivverden.no/en/event/skeiv-sprakkafe-i-oslo-var-2025/2025-02-24/
LOCATION:Skeiv Verden Oslo\, Torggata 1\, Oslo\, 0181\, Norway
CATEGORIES:Språkkafeé
ATTACH;FMTTYPE=image/webp:https://www.skeivverden.no/wp-content/uploads/2024/09/Skeiv-sprakkafe-oslo.webp
END:VEVENT
BEGIN:VEVENT
DTSTART;TZID=UTC:20250225T110000
DTEND;TZID=UTC:20250225T170000
DTSTAMP:20260419T122451
CREATED:20240417T153425Z
LAST-MODIFIED:20240516T094646Z
UID:10000206-1740481200-1740502800@www.skeivverden.no
SUMMARY:Kontordag i Trondheim
DESCRIPTION:Trenger du noen å snakke med\, finne ut av noe eller treffe våre frivillig?\nSkeiv Verden Midt-Norge har kontor på Skeivt hus i Trondheim
URL:https://www.skeivverden.no/en/event/kontordag-i-trondheim/2025-02-25/
LOCATION:Skeiv Verden Midt-Norge\, Prinsens gate 46\, Trondheim\, 7011\, Norway
ATTACH;FMTTYPE=image/png:https://www.skeivverden.no/wp-content/uploads/2024/04/Trondheim-Kalendergral.png
END:VEVENT
BEGIN:VEVENT
DTSTART;TZID=UTC:20250225T170000
DTEND;TZID=UTC:20250225T200000
DTSTAMP:20260419T122451
CREATED:20250106T215246Z
LAST-MODIFIED:20250520T083625Z
UID:10000624-1740502800-1740513600@www.skeivverden.no
SUMMARY:FOLK
DESCRIPTION:Folk er en dedikert møteplass av og for skeive kvinner\, transpersoner eller ikke-binære personer med ulik bakgrunn. Vil du bli kjent med hyggelige folk i en trygg setting\, dele dine erfaringer og være med på å skape aktiviteter som gjør at vi blir bedre kjent med hverandre? Bli med på Folk! \nVi samles to ganger i måneden i Oslo og du er hjertelig velkommen! \nFor å delta på FOLK samlinger\, ta kontakt med prosjektleder Newt Petride på newt@skeivverden.no \nFOLK is a dedicated meeting place by and for queer women\, trans people and non-binary people with different backgrounds. If you want to get to know nice people in a safe envoiroment\, share your experiences and be part of creating sosial activities that focus on community building and stengthening relations in the group? Be part of FOLK! \nWe gather every second week in Oslo\, and you are more than welcome! \nTo participate at FOLK gathering\, contact the project leader Newt Petride at newt@skeivverden.no.
URL:https://www.skeivverden.no/en/event/folk-2-2/2025-02-25/
LOCATION:Skeiv Verden Oslo\, Torggata 1\, Oslo\, 0181\, Norway
CATEGORIES:FOLK
ATTACH;FMTTYPE=image/png:https://www.skeivverden.no/wp-content/uploads/2025/01/facebook-nettside-arrangement-generell-pride-500-x-281-px.png
END:VEVENT
BEGIN:VEVENT
DTSTART;TZID=UTC:20250225T181500
DTEND;TZID=UTC:20250225T191500
DTSTAMP:20260419T122451
CREATED:20250320T100838Z
LAST-MODIFIED:20250320T122614Z
UID:10000783-1740507300-1740510900@www.skeivverden.no
SUMMARY:Yoga på Dialogsenteret
DESCRIPTION:Velkommen til Yogakurs for deg som er skeiv og har minoritetsbakgrunn! \nDu kan bare møte opp litt før den dagen om du vil være med! \nLurer du på noe\, kan du ta kontakt med Nazanin 96977518 eller send oss en epost på: midt-norge@skeivverden.no
URL:https://www.skeivverden.no/en/event/yoga-pa-dialogsenteret/2025-02-25/
LOCATION:Dialogsenteret\, Kirkeveien 84\, Oslo\, 0364\, Norway
CATEGORIES:LokalAktivitet
END:VEVENT
BEGIN:VEVENT
DTSTART;TZID=UTC:20250226T170000
DTEND;TZID=UTC:20250226T203000
DTSTAMP:20260419T122451
CREATED:20241018T062624Z
LAST-MODIFIED:20241120T140212Z
UID:10000611-1740589200-1740601800@www.skeivverden.no
SUMMARY:Skeiv Verden UNG
DESCRIPTION:
URL:https://www.skeivverden.no/en/event/skeiv-verden-ung-2/2025-02-26/
LOCATION:Skeiv Verden Oslo\, Torggata 1\, Oslo\, 0181\, Norway
CATEGORIES:UNG
ATTACH;FMTTYPE=image/png:https://www.skeivverden.no/wp-content/uploads/2024/04/UNG.png
END:VEVENT
BEGIN:VEVENT
DTSTART;TZID=UTC:20250227T170000
DTEND;TZID=UTC:20250227T190000
DTSTAMP:20260419T122451
CREATED:20240417T155306Z
LAST-MODIFIED:20240516T094515Z
UID:10000248-1740675600-1740682800@www.skeivverden.no
SUMMARY:Sentralstyremøte / Central board meeting
DESCRIPTION:Møte i Sentralstyret for Skeiv Verden. Møtedatoene for hele styreåret er offentliggjort på kalenderen\, og en gang i måneden med pause i Juli. \n\n\n\n\n\n\n\n\n\n\n\nCentral board meeting for Skeiv Verden (Queer World). The dates for all of the board year are published here in the calender. The meetings are once a month\, with a break in July.
URL:https://www.skeivverden.no/en/event/sentralstyremote-central-board-meeting/2025-02-27/
LOCATION:Skeiv Verden Oslo\, Torggata 1\, Oslo\, 0181\, Norway
END:VEVENT
BEGIN:VEVENT
DTSTART;TZID=UTC:20250228T180000
DTEND;TZID=UTC:20250228T200000
DTSTAMP:20260419T122451
CREATED:20250319T153716Z
LAST-MODIFIED:20250320T090941Z
UID:10000775-1740765600-1740772800@www.skeivverden.no
SUMMARY:Skeiv kafe med Skeiv Verden Midt-Norge
DESCRIPTION:Welcome to Queer Café in Trondheim\, everyone! \nQueer Café is a safe gathering space for LGBTQIA+ people with minority background\, where they are the majority and can meet others like themselves. \nWe gather to eat delicious food and have a good time every other saturday! \nIf you have any questions you can contact Thomas 98862251 or Nazanin 96977518\ne-mail: midt-norge@skeivverden.no \nVelkommen til Skeiv Kafe i Trondheim\, alle sammen! \nSkeiv Kafe er en trygg møteplass for LHBTQIA+ personer med minoritetsbakgrunn\, hvor de er majoriteten og kan møte andre som seg selv. \nVi samles med deilig mat og god stemning annenhver lørdag! \nOm du har spørsmål\,  ta kontakt med Thomas 98862251 eller Nazanin 96977518\ne-mail: midt-norge@skeivverden.no
URL:https://www.skeivverden.no/en/event/skeiv-kafe-med-skeiv-verden-midt-norge-2/2025-02-28/
LOCATION:Rødhuset
CATEGORIES:Skeiv Kafe
ATTACH;FMTTYPE=image/png:https://www.skeivverden.no/wp-content/uploads/2024/04/Trondheim-Kalendergral.png
END:VEVENT
BEGIN:VEVENT
DTSTART;TZID=UTC:20250228T204500
DTEND;TZID=UTC:20250228T214500
DTSTAMP:20260419T122451
CREATED:20250320T133538Z
LAST-MODIFIED:20250320T133538Z
UID:10000797-1740775500-1740779100@www.skeivverden.no
SUMMARY:Svømmekurs i Trondheim
DESCRIPTION:Velkommen til vårt svømmekurs i Trondheim! \nVeldig populær aktivitet i lokallaget! \nVi har begrense plasser. \nOm du vil være med\, kontakt gjerne Rie på 481 87 087  for mer informasjon\, påmelding og adresse.
URL:https://www.skeivverden.no/en/event/svommekurs-i-trondheim/2025-02-28/
CATEGORIES:LokalAktivitet
END:VEVENT
BEGIN:VEVENT
DTSTART;TZID=UTC:20250304T110000
DTEND;TZID=UTC:20250304T170000
DTSTAMP:20260419T122451
CREATED:20240417T153425Z
LAST-MODIFIED:20240516T094646Z
UID:10000207-1741086000-1741107600@www.skeivverden.no
SUMMARY:Kontordag i Trondheim
DESCRIPTION:Trenger du noen å snakke med\, finne ut av noe eller treffe våre frivillig?\nSkeiv Verden Midt-Norge har kontor på Skeivt hus i Trondheim
URL:https://www.skeivverden.no/en/event/kontordag-i-trondheim/2025-03-04/
LOCATION:Skeiv Verden Midt-Norge\, Prinsens gate 46\, Trondheim\, 7011\, Norway
ATTACH;FMTTYPE=image/png:https://www.skeivverden.no/wp-content/uploads/2024/04/Trondheim-Kalendergral.png
END:VEVENT
END:VCALENDAR