BEGIN:VCALENDAR
VERSION:2.0
PRODID:-//Skeiv Verden - ECPv6.15.20//NONSGML v1.0//EN
CALSCALE:GREGORIAN
METHOD:PUBLISH
X-ORIGINAL-URL:https://www.skeivverden.no
X-WR-CALDESC:Arrangement for Skeiv Verden
REFRESH-INTERVAL;VALUE=DURATION:PT1H
X-Robots-Tag:noindex
X-PUBLISHED-TTL:PT1H
BEGIN:VTIMEZONE
TZID:UTC
BEGIN:STANDARD
TZOFFSETFROM:+0000
TZOFFSETTO:+0000
TZNAME:UTC
DTSTART:20240101T000000
END:STANDARD
END:VTIMEZONE
BEGIN:VEVENT
DTSTART;TZID=UTC:20250408T180000
DTEND;TZID=UTC:20250408T193000
DTSTAMP:20260422T083003
CREATED:20250328T150508Z
LAST-MODIFIED:20250328T150508Z
UID:10000808-1744135200-1744140600@www.skeivverden.no
SUMMARY:Oppstarts-møte for nye frivillige i Oslo Østlandet
DESCRIPTION:Alle frivillige i Skeiv Verden må delta på et oppstartsmøte. \nVi vil snakke om hvordan vi kan bidra for å bidra på våre møteplasser og andre muligheter i organisasjonen. \nVi har veldig lyst til å bli kjent med deg og samtidig vil vi fortelle deg mer om hvordan Skeiv Verden fungerer og hva våre mål er. \nMeld deg gjerne før møtet \nFor English click on the flag at the bottom of the page.
URL:https://www.skeivverden.no/event/oppstarts-mote-for-nye-frivillige-i-oslo-ostlandet-2/2025-04-08/
LOCATION:Skeiv Verden Oslo\, Torggata 1\, Oslo\, 0181\, Norway
CATEGORIES:Seminar
ATTACH;FMTTYPE=image/webp:https://www.skeivverden.no/wp-content/uploads/2024/10/oppstarts-mote-event.webp
END:VEVENT
BEGIN:VEVENT
DTSTART;TZID=UTC:20250429T180000
DTEND;TZID=UTC:20250429T193000
DTSTAMP:20260422T083003
CREATED:20250328T150508Z
LAST-MODIFIED:20250328T150508Z
UID:10000809-1745949600-1745955000@www.skeivverden.no
SUMMARY:Oppstarts-møte for nye frivillige i Oslo Østlandet
DESCRIPTION:Alle frivillige i Skeiv Verden må delta på et oppstartsmøte. \nVi vil snakke om hvordan vi kan bidra for å bidra på våre møteplasser og andre muligheter i organisasjonen. \nVi har veldig lyst til å bli kjent med deg og samtidig vil vi fortelle deg mer om hvordan Skeiv Verden fungerer og hva våre mål er. \nMeld deg gjerne før møtet \nFor English click on the flag at the bottom of the page.
URL:https://www.skeivverden.no/event/oppstarts-mote-for-nye-frivillige-i-oslo-ostlandet-2/2025-04-29/
LOCATION:Skeiv Verden Oslo\, Torggata 1\, Oslo\, 0181\, Norway
CATEGORIES:Seminar
ATTACH;FMTTYPE=image/webp:https://www.skeivverden.no/wp-content/uploads/2024/10/oppstarts-mote-event.webp
END:VEVENT
END:VCALENDAR