BEGIN:VCALENDAR
VERSION:2.0
PRODID:-//Skeiv Verden - ECPv6.15.20//NONSGML v1.0//EN
CALSCALE:GREGORIAN
METHOD:PUBLISH
X-WR-CALNAME:Skeiv Verden
X-ORIGINAL-URL:https://www.skeivverden.no
X-WR-CALDESC:Arrangement for Skeiv Verden
REFRESH-INTERVAL;VALUE=DURATION:PT1H
X-Robots-Tag:noindex
X-PUBLISHED-TTL:PT1H
BEGIN:VTIMEZONE
TZID:UTC
BEGIN:STANDARD
TZOFFSETFROM:+0000
TZOFFSETTO:+0000
TZNAME:UTC
DTSTART:20240101T000000
END:STANDARD
END:VTIMEZONE
BEGIN:VEVENT
DTSTART;VALUE=DATE:20251007
DTEND;VALUE=DATE:20251011
DTSTAMP:20260420T004457
CREATED:20251007T093716Z
LAST-MODIFIED:20251007T093858Z
UID:10001008-1759795200-1760140799@www.skeivverden.no
SUMMARY:ABC-Seminar
DESCRIPTION:Tirsdag 7. – 10. oktober er det klart for nok et ABC-seminar for skeive nyankomne. Denne høsten er arrangementet i Bergen. \nTemaer vi tar opp er: \n\nHva vil det si å leve som åpen skeiv i Norge?\nHvordan få et trygt og meningsfylt liv her?\nHvor finner du andre skeive?\nRettigheter\,\nHvordan navigere i det norske systemet og får tilgang til helsehjelp\nTesting  for SOI\n\nABC seminaret er åpent for alle våre medlemmer med kort botid i Norge. \nNeste seminar er i juni i Oslo i 2026 \nVi legger ut søknadskjema når det nærmere seg
URL:https://www.skeivverden.no/event/abc-seminar/
CATEGORIES:Seminar
ATTACH;FMTTYPE=image/jpeg:https://www.skeivverden.no/wp-content/uploads/2025/10/ABC-Seminar-Bergen-.jpg
END:VEVENT
END:VCALENDAR