BEGIN:VCALENDAR
VERSION:2.0
PRODID:-//Skeiv Verden - ECPv6.15.20//NONSGML v1.0//EN
CALSCALE:GREGORIAN
METHOD:PUBLISH
X-WR-CALNAME:Skeiv Verden
X-ORIGINAL-URL:https://www.skeivverden.no
X-WR-CALDESC:Arrangement for Skeiv Verden
REFRESH-INTERVAL;VALUE=DURATION:PT1H
X-Robots-Tag:noindex
X-PUBLISHED-TTL:PT1H
BEGIN:VTIMEZONE
TZID:UTC
BEGIN:STANDARD
TZOFFSETFROM:+0000
TZOFFSETTO:+0000
TZNAME:UTC
DTSTART:20250101T000000
END:STANDARD
END:VTIMEZONE
BEGIN:VEVENT
DTSTART;TZID=UTC:20260202T080000
DTEND;TZID=UTC:20260202T170000
DTSTAMP:20260422T180919
CREATED:20260209T090921Z
LAST-MODIFIED:20260209T091115Z
UID:10001161-1770019200-1770051600@www.skeivverden.no
SUMMARY:Circle of Support
DESCRIPTION:This event will be in English.\nCome join us for an informal support group every other monday until the end of April.The overall aim of the group is to improve the mental well-being of participants\, for example\, by reducing levels of anxiety\, depression\, and stress. This is expected to lead to increased self-confidence and social participation\, and to encourage greater engagement in community life.\nFeel free to contact us if you have questions or concerns.You maynd invite your friends if you want\, but space is limited and we prioritize members of Queer World: https://www.skeivverden.no/
URL:https://www.skeivverden.no/event/circle-of-support/
LOCATION:Kongens gate 34\, 7012 Trondheim\, Norge\, Kongens gate 34\, Trondheim\, 7012\, Norway
END:VEVENT
BEGIN:VEVENT
DTSTART;TZID=UTC:20260203T170000
DTEND;TZID=UTC:20260203T190000
DTSTAMP:20260422T180919
CREATED:20260203T142600Z
LAST-MODIFIED:20260203T143211Z
UID:10001098-1770138000-1770145200@www.skeivverden.no
SUMMARY:FOLK- møteplass for transpersoner\, ikke-binære og skeive kvinner. Skeiv Verden Oslo og Østlandet.
DESCRIPTION:Folk er en dedikert møteplass av og for skeive kvinner\, transpersoner og andre kjønnsvarierte personer med etnisk\, religiøs eller kulturell minoritetsbakgrunn. Vil du bli kjent med hyggelige folk i en trygg setting\, dele dine erfaringer og være med på å skape aktiviteter som gjør at vi blir bedre kjent med hverandre? Bli med på Folk! \nVi samles to ganger i måneden i Oslo og du er hjertelig velkommen! \n__________________________________________________ \nFolk is a dedicated meeting place for and by queer women\, transgender people and other gender diverse people with ethnic\, religious or cultural minority backgrounds. Do you want to meet nice people in a safe setting\, share your experiences and help create activities that help us get to know each other better? Join Folk! \nWe meet twice a month in Oslo and you are most welcome!
URL:https://www.skeivverden.no/event/folk-moteplass-for-transpersoner-ikke-binaere-og-skeive-kvinner-skeiv-verden-oslo-og-ostlandet/2026-02-03/
LOCATION:Skeiv Verden Oslo\, Torggata 1\, Oslo\, 0181\, Norway
CATEGORIES:FOLK
END:VEVENT
BEGIN:VEVENT
DTSTART;TZID=UTC:20260203T180000
DTEND;TZID=UTC:20260203T200000
DTSTAMP:20260422T180919
CREATED:20260207T150753Z
LAST-MODIFIED:20260207T152416Z
UID:10001138-1770141600-1770148800@www.skeivverden.no
SUMMARY:Skeiv kafe i Stavanger
DESCRIPTION:Velkommen til Skeiv Kafe i Stavanger\, alle sammen! \nSkeiv Kafe er en trygg møteplass for LHBTQIA+ personer med minoritetsbakgrunn\, hvor vi er majoriteten og kan møte andre som oss selv. \nI Stavanger holder vi Skeiv Kafe to ganger i måneder fra kl. 18:00. \nVi Samles med deilig mat og god stemning! \nOm du har spørsmål kan du sende til rogaland@skeivverden.no
URL:https://www.skeivverden.no/event/skeiv-kafe-i-stavanger/2026-02-03/
LOCATION:Fontenehuset Stavanger\, St. Svithuns gate 37\, Stavanger\, 4008\, Norway
END:VEVENT
BEGIN:VEVENT
DTSTART;TZID=UTC:20260205T180000
DTEND;TZID=UTC:20260205T200000
DTSTAMP:20260422T180919
CREATED:20260116T143643Z
LAST-MODIFIED:20260116T143643Z
UID:10001018-1770314400-1770321600@www.skeivverden.no
SUMMARY:Skeiv kafe
DESCRIPTION:Welcome to Queer Café in Oslo\, everyone! \nQueer Café is a safe gathering space for LGBTQIA+ people with minority background\, where they are the majority and can meet others like themselves. \nIn Oslo every Thursday from 18:00 we gather to eat delicious food and have a good time! \nIf you have any questions you can send them to laura@skeivverden.no \n——– \nVelkommen til Skeiv Kafe i Oslo\, alle sammen! \nSkeiv Kafe er en trygg møteplass for LHBTQIA+ personer med minoritetsbakgrunn\, hvor de er majoriteten og kan møte andre som seg selv. \nI Oslo hver torsdag fra kl. 18:00 samles vi med deilig mat og god stemning! \nOm du har spørsmål kan du sende til laura@skeivverden.no
URL:https://www.skeivverden.no/event/skeiv-kafe/2026-02-05/
LOCATION:Skeiv Verden Oslo\, Torggata 1\, Oslo\, 0181\, Norway
CATEGORIES:Skeiv Kafe
END:VEVENT
BEGIN:VEVENT
DTSTART;TZID=UTC:20260206T180000
DTEND;TZID=UTC:20260206T200000
DTSTAMP:20260422T180919
CREATED:20260203T140845Z
LAST-MODIFIED:20260203T141452Z
UID:10001038-1770400800-1770408000@www.skeivverden.no
SUMMARY:Skeiv Verden Oslo og Østlandets Kor
DESCRIPTION:Hei velkommen til Skeiv Verdens ukentlige kor og stemmetrening. Hver fredag kveld samles medlemmer og frivillige for uhøytidelig korøvelse og stemmetrening. Arrengementet foregår i Skeiv Verdens lokaler i Torggata 1 i Oslo. \nDu må ikke kunne noe om sang og eller ha sangtrening fra før. Alle i målgruppen er velkommen. \nVelkommen! \n____________________________________ \n  \nHello and welcome to Skeiv Verdens’ weekly choir and voice training. Every Friday evening\, members and volunteers gather for informal choir practice and voice training. The event takes place at Skeiv Verdens’ premises at Torggata 1 in Oslo. \nYou must not know anything about singing or have any previous singing training. Everyone in the target group is welcome. \nWelcome!
URL:https://www.skeivverden.no/event/skeiv-verden-oslo-og-ostlandets-kor/2026-02-06/
LOCATION:Skeiv Verden Oslo\, Torggata 1\, Oslo\, 0181\, Norway
CATEGORIES:LokalAktivitet
END:VEVENT
BEGIN:VEVENT
DTSTART;TZID=UTC:20260206T180000
DTEND;TZID=UTC:20260206T200000
DTSTAMP:20260422T180919
CREATED:20260209T084031Z
LAST-MODIFIED:20260209T084102Z
UID:10001152-1770400800-1770408000@www.skeivverden.no
SUMMARY:Skeiv Kafe i Trondheim
DESCRIPTION:Velkommen til Skeiv Kafe i Trondheim\, alle sammen! \nSkeiv Kafe er en trygg møteplass for LHBTQIA+ personer med minoritetsbakgrunn\, hvor de er majoriteten og kan møte andre som seg selv. \nVi samles med deilig mat og god stemning annenhver lørdag! \nOm du har spørsmål\, send en epost til midt-norge@skeivverden.no. \nFor English click on the flag at the bottom of the page.
URL:https://www.skeivverden.no/event/skeiv-kafe-in-trondheim/2026-02-06/
LOCATION:Rødhuset
END:VEVENT
BEGIN:VEVENT
DTSTART;TZID=UTC:20260210T180000
DTEND;TZID=UTC:20260210T193000
DTSTAMP:20260422T180919
CREATED:20260207T140555Z
LAST-MODIFIED:20260212T131211Z
UID:10001120-1770746400-1770751800@www.skeivverden.no
SUMMARY:Pride Møte
DESCRIPTION:Er du interessert i å være med på Skeiv Verden Oslo Østlandets innsats for Pride 2026? \nHvis du bryr deg om skeive rettigheter\, er du kreativ\, eller er flink til å organisere\, inviterer vi deg til å bli en del av teamet vårt! \nUansett hvilke ferdigheter\, interesser du har eller kapasitet\, finnes det en mulighet for deg å bidra. \nBli med på fellesmøtet i november\, bli kjent med koordinatorene\, lær om prosjektene deres\, og velg gruppen du ønsker å jobbe med! \nFor English click on the flag at the bottom of the page.
URL:https://www.skeivverden.no/event/pride-mote/2026-02-10/
LOCATION:Skeiv Verden Oslo\, Torggata 1\, Oslo\, 0181\, Norway
END:VEVENT
BEGIN:VEVENT
DTSTART;TZID=UTC:20260212T180000
DTEND;TZID=UTC:20260212T200000
DTSTAMP:20260422T180919
CREATED:20260116T143643Z
LAST-MODIFIED:20260116T143643Z
UID:10001019-1770919200-1770926400@www.skeivverden.no
SUMMARY:Skeiv kafe
DESCRIPTION:Welcome to Queer Café in Oslo\, everyone! \nQueer Café is a safe gathering space for LGBTQIA+ people with minority background\, where they are the majority and can meet others like themselves. \nIn Oslo every Thursday from 18:00 we gather to eat delicious food and have a good time! \nIf you have any questions you can send them to laura@skeivverden.no \n——– \nVelkommen til Skeiv Kafe i Oslo\, alle sammen! \nSkeiv Kafe er en trygg møteplass for LHBTQIA+ personer med minoritetsbakgrunn\, hvor de er majoriteten og kan møte andre som seg selv. \nI Oslo hver torsdag fra kl. 18:00 samles vi med deilig mat og god stemning! \nOm du har spørsmål kan du sende til laura@skeivverden.no
URL:https://www.skeivverden.no/event/skeiv-kafe/2026-02-12/
LOCATION:Skeiv Verden Oslo\, Torggata 1\, Oslo\, 0181\, Norway
CATEGORIES:Skeiv Kafe
END:VEVENT
BEGIN:VEVENT
DTSTART;TZID=UTC:20260213T180000
DTEND;TZID=UTC:20260213T200000
DTSTAMP:20260422T180919
CREATED:20260203T140845Z
LAST-MODIFIED:20260203T141452Z
UID:10001039-1771005600-1771012800@www.skeivverden.no
SUMMARY:Skeiv Verden Oslo og Østlandets Kor
DESCRIPTION:Hei velkommen til Skeiv Verdens ukentlige kor og stemmetrening. Hver fredag kveld samles medlemmer og frivillige for uhøytidelig korøvelse og stemmetrening. Arrengementet foregår i Skeiv Verdens lokaler i Torggata 1 i Oslo. \nDu må ikke kunne noe om sang og eller ha sangtrening fra før. Alle i målgruppen er velkommen. \nVelkommen! \n____________________________________ \n  \nHello and welcome to Skeiv Verdens’ weekly choir and voice training. Every Friday evening\, members and volunteers gather for informal choir practice and voice training. The event takes place at Skeiv Verdens’ premises at Torggata 1 in Oslo. \nYou must not know anything about singing or have any previous singing training. Everyone in the target group is welcome. \nWelcome!
URL:https://www.skeivverden.no/event/skeiv-verden-oslo-og-ostlandets-kor/2026-02-13/
LOCATION:Skeiv Verden Oslo\, Torggata 1\, Oslo\, 0181\, Norway
CATEGORIES:LokalAktivitet
END:VEVENT
BEGIN:VEVENT
DTSTART;TZID=UTC:20260216T080000
DTEND;TZID=UTC:20260216T170000
DTSTAMP:20260422T180919
CREATED:20260209T091423Z
LAST-MODIFIED:20260209T091424Z
UID:10001162-1771228800-1771261200@www.skeivverden.no
SUMMARY:Circle of Support
DESCRIPTION:This event will be in English.\nCome join us for an informal support group every other monday until the end of April.The overall aim of the group is to improve the mental well-being of participants\, for example\, by reducing levels of anxiety\, depression\, and stress. This is expected to lead to increased self-confidence and social participation\, and to encourage greater engagement in community life.\nFeel free to contact us if you have questions or concerns.You maynd invite your friends if you want\, but space is limited and we prioritize members of Queer World: https://www.skeivverden.no/
URL:https://www.skeivverden.no/event/circle-of-support-2/2026-02-16/
LOCATION:Kongens gate 34\, 7012 Trondheim\, Norge\, Kongens gate 34\, Trondheim\, 7012\, Norway
END:VEVENT
BEGIN:VEVENT
DTSTART;TZID=UTC:20260217T170000
DTEND;TZID=UTC:20260217T190000
DTSTAMP:20260422T180919
CREATED:20260203T142600Z
LAST-MODIFIED:20260203T143211Z
UID:10001100-1771347600-1771354800@www.skeivverden.no
SUMMARY:FOLK- møteplass for transpersoner\, ikke-binære og skeive kvinner. Skeiv Verden Oslo og Østlandet.
DESCRIPTION:Folk er en dedikert møteplass av og for skeive kvinner\, transpersoner og andre kjønnsvarierte personer med etnisk\, religiøs eller kulturell minoritetsbakgrunn. Vil du bli kjent med hyggelige folk i en trygg setting\, dele dine erfaringer og være med på å skape aktiviteter som gjør at vi blir bedre kjent med hverandre? Bli med på Folk! \nVi samles to ganger i måneden i Oslo og du er hjertelig velkommen! \n__________________________________________________ \nFolk is a dedicated meeting place for and by queer women\, transgender people and other gender diverse people with ethnic\, religious or cultural minority backgrounds. Do you want to meet nice people in a safe setting\, share your experiences and help create activities that help us get to know each other better? Join Folk! \nWe meet twice a month in Oslo and you are most welcome!
URL:https://www.skeivverden.no/event/folk-moteplass-for-transpersoner-ikke-binaere-og-skeive-kvinner-skeiv-verden-oslo-og-ostlandet/2026-02-17/
LOCATION:Skeiv Verden Oslo\, Torggata 1\, Oslo\, 0181\, Norway
CATEGORIES:FOLK
END:VEVENT
BEGIN:VEVENT
DTSTART;TZID=UTC:20260217T180000
DTEND;TZID=UTC:20260217T200000
DTSTAMP:20260422T180919
CREATED:20260207T150753Z
LAST-MODIFIED:20260207T152416Z
UID:10001145-1771351200-1771358400@www.skeivverden.no
SUMMARY:Skeiv kafe i Stavanger
DESCRIPTION:Velkommen til Skeiv Kafe i Stavanger\, alle sammen! \nSkeiv Kafe er en trygg møteplass for LHBTQIA+ personer med minoritetsbakgrunn\, hvor vi er majoriteten og kan møte andre som oss selv. \nI Stavanger holder vi Skeiv Kafe to ganger i måneder fra kl. 18:00. \nVi Samles med deilig mat og god stemning! \nOm du har spørsmål kan du sende til rogaland@skeivverden.no
URL:https://www.skeivverden.no/event/skeiv-kafe-i-stavanger/2026-02-17/
LOCATION:Fontenehuset Stavanger\, St. Svithuns gate 37\, Stavanger\, 4008\, Norway
END:VEVENT
BEGIN:VEVENT
DTSTART;TZID=UTC:20260218T170000
DTEND;TZID=UTC:20260218T190000
DTSTAMP:20260422T180919
CREATED:20260203T154740Z
LAST-MODIFIED:20260203T155342Z
UID:10001103-1771434000-1771441200@www.skeivverden.no
SUMMARY:UNG- Ungdomsgruppe for skeive med minoritetsbakgrunn. Skeiv Verden Oslo og Østlandet.
DESCRIPTION:Er du mellom 14 og 26 år og ønsker å bli kjent med flere skeive unge med minoritetsbakgrunn? Da er Skeiv Verden UNG for deg! Dette er en trygg sosial møteplass for unge skeive minoriteter\, og vi er derfor opptatt at dette er et «safe space» for alle som kommer og tilrettelegger for at du skal ha det bra. Vi har en trygg møteplass der vi organiserer ulike aktiviteter etter ønske fra deltakerne. \n________________________________________________ \nAre you between 14 and 26 years old and want to get to know more queer young people with minority backgrounds? Then Skeiv Verden UNG is for you! This is a safe social meeting place for young queer minorities\, and we are therefore committed to making this a «safe space» for everyone who comes and to ensuring that you have a good time. We have a safe meeting place where we organize various activities according to the wishes of the participants. \n 
URL:https://www.skeivverden.no/event/ung-ungdomsgruppe-for-skeive-med-minoritetsbakgrunn-skeiv-verden-oslo-og-ostlandet/
LOCATION:Skeiv Verden Oslo\, Torggata 1\, Oslo\, 0181\, Norway
CATEGORIES:UNG
END:VEVENT
BEGIN:VEVENT
DTSTART;TZID=UTC:20260219T180000
DTEND;TZID=UTC:20260219T200000
DTSTAMP:20260422T180919
CREATED:20260116T143643Z
LAST-MODIFIED:20260116T143643Z
UID:10001020-1771524000-1771531200@www.skeivverden.no
SUMMARY:Skeiv kafe
DESCRIPTION:Welcome to Queer Café in Oslo\, everyone! \nQueer Café is a safe gathering space for LGBTQIA+ people with minority background\, where they are the majority and can meet others like themselves. \nIn Oslo every Thursday from 18:00 we gather to eat delicious food and have a good time! \nIf you have any questions you can send them to laura@skeivverden.no \n——– \nVelkommen til Skeiv Kafe i Oslo\, alle sammen! \nSkeiv Kafe er en trygg møteplass for LHBTQIA+ personer med minoritetsbakgrunn\, hvor de er majoriteten og kan møte andre som seg selv. \nI Oslo hver torsdag fra kl. 18:00 samles vi med deilig mat og god stemning! \nOm du har spørsmål kan du sende til laura@skeivverden.no
URL:https://www.skeivverden.no/event/skeiv-kafe/2026-02-19/
LOCATION:Skeiv Verden Oslo\, Torggata 1\, Oslo\, 0181\, Norway
CATEGORIES:Skeiv Kafe
END:VEVENT
BEGIN:VEVENT
DTSTART;TZID=UTC:20260219T190000
DTEND;TZID=UTC:20260219T200000
DTSTAMP:20260422T180919
CREATED:20260218T093326Z
LAST-MODIFIED:20260218T093326Z
UID:10001200-1771527600-1771531200@www.skeivverden.no
SUMMARY:Informasjonsmøte med DiMe Oslo- på Skeiv Kafe 19.02
DESCRIPTION:DiMe Oslo kommer til Skeiv Kafé 19. februar kl. 19.00–20.00 for å gi informasjon om tilbudet sitt og hvordan de kan være en ressurs for målgruppen i Skeiv Verden. \nDiMe er et viktig tiltak i arbeidet mot rasisme og diskriminering\, og skal være et lett tilgjengelig lavterskeltilbud for deg som opplever dette. De gir gratis informasjon\, veiledning og juridisk bistand i saker som handler om rasisme og diskriminering. Mange som rammes tier om det de har opplevd\, ofte fordi de føler avmakt eller tror det ikke nytter å si ifra. DiMe jobber nettopp for å støtte personer i slike situasjoner\, og for å sikre at flere får kjennskap til sine rettigheter og muligheter.\nFor medlemmer og deltakere i Skeiv Verden samarabeidet med DiMe være et aktuelt og trygt sted å henvende seg dersom man har opplevd diskriminering eller rasisme – enten det gjelder arbeidsliv\, bolig\, offentlige tjenester eller andre arenaer. \nVelkommen til Skeiv Kafé for å lære mer om hvordan du kan få støtte og bistand dersom du trenger det. \n_______________________________________________________ \nDiMe Oslo will be at Skeiv Kafé on February 19th at 7:00 PM–8:00 PM to provide information about their services and how they can be a resource for the target group in Skeiv Verden. \nDiMe is an important initiative in the fight against racism and discrimination\, and is intended to be an easily accessible low-threshold service for those who experience this. They provide free information\, guidance and legal assistance in matters involving racism and discrimination. Many who are affected remain silent about what they have experienced\, often because they feel powerless or believe it is useless to speak up. DiMe works precisely to support people in such situations\, and to ensure that more people become aware of their rights and opportunities. \nFor members and participants in Skeiv Verden\, the collaboration with DiMe should be a relevant and safe place to turn if they have experienced discrimination or racism – whether in terms of work\, housing\, public services or other arenas. \nWelcome to Skeiv Kafé to learn more about how you can get support and assistance if you need it.
URL:https://www.skeivverden.no/event/informasjonsmote-med-dime-oslo-pa-skeiv-kafe-19-02/
LOCATION:Skeiv Verden Oslo\, Torggata 1\, Oslo\, 0181\, Norway
CATEGORIES:Skeiv Kafe
END:VEVENT
BEGIN:VEVENT
DTSTART;TZID=UTC:20260220T180000
DTEND;TZID=UTC:20260220T200000
DTSTAMP:20260422T180919
CREATED:20260203T140845Z
LAST-MODIFIED:20260203T141452Z
UID:10001040-1771610400-1771617600@www.skeivverden.no
SUMMARY:Skeiv Verden Oslo og Østlandets Kor
DESCRIPTION:Hei velkommen til Skeiv Verdens ukentlige kor og stemmetrening. Hver fredag kveld samles medlemmer og frivillige for uhøytidelig korøvelse og stemmetrening. Arrengementet foregår i Skeiv Verdens lokaler i Torggata 1 i Oslo. \nDu må ikke kunne noe om sang og eller ha sangtrening fra før. Alle i målgruppen er velkommen. \nVelkommen! \n____________________________________ \n  \nHello and welcome to Skeiv Verdens’ weekly choir and voice training. Every Friday evening\, members and volunteers gather for informal choir practice and voice training. The event takes place at Skeiv Verdens’ premises at Torggata 1 in Oslo. \nYou must not know anything about singing or have any previous singing training. Everyone in the target group is welcome. \nWelcome!
URL:https://www.skeivverden.no/event/skeiv-verden-oslo-og-ostlandets-kor/2026-02-20/
LOCATION:Skeiv Verden Oslo\, Torggata 1\, Oslo\, 0181\, Norway
CATEGORIES:LokalAktivitet
END:VEVENT
BEGIN:VEVENT
DTSTART;TZID=UTC:20260223T180000
DTEND;TZID=UTC:20260223T193000
DTSTAMP:20260422T180919
CREATED:20260207T135831Z
LAST-MODIFIED:20260323T084322Z
UID:10001116-1771869600-1771875000@www.skeivverden.no
SUMMARY:Skeiv Språkkafe i Oslo!
DESCRIPTION:Skeiv språkkafé – et sosialt og trygt sted å øve på norsk. \nHvem:\n• Åpent for alle som lærer norsk\, uansett nivå \nNår:\n• Siste mandag i hver måned\n• Kl. 18:00–19:30\n• Første gang: mandag 26. januar 2026 \nHvor:\n• Torggata 1\, Oslo \nSpråkkaféen arrangeres av Siri Språkskole og Skeiv Verden. Siri (norsklærer) og andre frivillige sørger for at alle får øvd på norsk i trygge omgivelser – og har det hyggelig sammen. \nVi håper å se deg der! 🌈
URL:https://www.skeivverden.no/event/skeiv-sprakkafe-i-oslo-2/2026-02-23/
LOCATION:Skeiv Verden Oslo\, Torggata 1\, Oslo\, 0181\, Norway
CATEGORIES:Språkkafeé
END:VEVENT
BEGIN:VEVENT
DTSTART;TZID=UTC:20260224T180000
DTEND;TZID=UTC:20260224T200000
DTSTAMP:20260422T180919
CREATED:20260207T143732Z
LAST-MODIFIED:20260207T152938Z
UID:10001151-1771956000-1771963200@www.skeivverden.no
SUMMARY:Oppstartmøte for nye Frivillige i Oslo
DESCRIPTION:Alle nye frivillige i Skeiv Verden må delta på et oppstartsmøte. \n📍 Sted: Torggata 1. Finn Skeiv Verden på listen ved inngangen. \nMer om møtetPå møtet vil vi snakke om hvordan du kan engasjere deg og bidra i fellesskapet. Vi presenterer våre ulike frivillige aktiviteter\, som Pride-arrangementer\, Skeiv Kafé\, Skeiv Språkkafé og andre muligheter i organisasjonen. \nVi vil også gå gjennom hvordan vi jobber for å holde våre møteplasser trygge og inkluderende for alle\, og reflektere over hvorfor dette er viktig\, både for oss som frivillige og for alle som kommer til Skeiv Verden. \nDu vil også få en introduksjon til hvordan Skeiv Verden fungerer og hvilke mål vi har. \nVi gleder oss veldig til å møte deg! \nMeld deg gjerne som frivillig gjennom denne skjema.
URL:https://www.skeivverden.no/event/oppstartmote-for-nye-frivillige-i-oslo-2/2026-02-24/
LOCATION:Skeiv Verden Oslo\, Torggata 1\, Oslo\, 0181\, Norway
END:VEVENT
BEGIN:VEVENT
DTSTART;TZID=UTC:20260225T170000
DTEND;TZID=UTC:20260225T190000
DTSTAMP:20260422T180919
CREATED:20260203T160045Z
LAST-MODIFIED:20260203T160045Z
UID:10001112-1772038800-1772046000@www.skeivverden.no
SUMMARY:UNG- Ungdomsgruppe for skeive med minoritetsbakgrunn. Skeiv Verden Oslo og Østlandet.
DESCRIPTION:Er du mellom 14 og 26 år og ønsker å bli kjent med flere skeive unge med minoritetsbakgrunn? Da er Skeiv Verden UNG for deg! Dette er en trygg sosial møteplass for unge skeive minoriteter\, og vi er derfor opptatt at dette er et «safe space» for alle som kommer og tilrettelegger for at du skal ha det bra. Vi har en trygg møteplass der vi organiserer ulike aktiviteter etter ønske fra deltakerne. \n________________________________________________ \nAre you between 14 and 26 years old and want to get to know more queer young people with minority backgrounds? Then Skeiv Verden UNG is for you! This is a safe social meeting place for young queer minorities\, and we are therefore committed to making this a «safe space» for everyone who comes and to ensuring that you have a good time. We have a safe meeting place where we organize various activities according to the wishes of the participants.
URL:https://www.skeivverden.no/event/ung-ungdomsgruppe-for-skeive-med-minoritetsbakgrunn-skeiv-verden-oslo-og-ostlandet-2/2026-02-25/
LOCATION:Skeiv Verden Oslo\, Torggata 1\, Oslo\, 0181\, Norway
CATEGORIES:UNG
END:VEVENT
BEGIN:VEVENT
DTSTART;TZID=UTC:20260226T180000
DTEND;TZID=UTC:20260226T200000
DTSTAMP:20260422T180919
CREATED:20260116T143643Z
LAST-MODIFIED:20260116T143643Z
UID:10001021-1772128800-1772136000@www.skeivverden.no
SUMMARY:Skeiv kafe
DESCRIPTION:Welcome to Queer Café in Oslo\, everyone! \nQueer Café is a safe gathering space for LGBTQIA+ people with minority background\, where they are the majority and can meet others like themselves. \nIn Oslo every Thursday from 18:00 we gather to eat delicious food and have a good time! \nIf you have any questions you can send them to laura@skeivverden.no \n——– \nVelkommen til Skeiv Kafe i Oslo\, alle sammen! \nSkeiv Kafe er en trygg møteplass for LHBTQIA+ personer med minoritetsbakgrunn\, hvor de er majoriteten og kan møte andre som seg selv. \nI Oslo hver torsdag fra kl. 18:00 samles vi med deilig mat og god stemning! \nOm du har spørsmål kan du sende til laura@skeivverden.no
URL:https://www.skeivverden.no/event/skeiv-kafe/2026-02-26/
LOCATION:Skeiv Verden Oslo\, Torggata 1\, Oslo\, 0181\, Norway
CATEGORIES:Skeiv Kafe
END:VEVENT
BEGIN:VEVENT
DTSTART;TZID=UTC:20260227T180000
DTEND;TZID=UTC:20260227T200000
DTSTAMP:20260422T180919
CREATED:20260203T140845Z
LAST-MODIFIED:20260203T141452Z
UID:10001041-1772215200-1772222400@www.skeivverden.no
SUMMARY:Skeiv Verden Oslo og Østlandets Kor
DESCRIPTION:Hei velkommen til Skeiv Verdens ukentlige kor og stemmetrening. Hver fredag kveld samles medlemmer og frivillige for uhøytidelig korøvelse og stemmetrening. Arrengementet foregår i Skeiv Verdens lokaler i Torggata 1 i Oslo. \nDu må ikke kunne noe om sang og eller ha sangtrening fra før. Alle i målgruppen er velkommen. \nVelkommen! \n____________________________________ \n  \nHello and welcome to Skeiv Verdens’ weekly choir and voice training. Every Friday evening\, members and volunteers gather for informal choir practice and voice training. The event takes place at Skeiv Verdens’ premises at Torggata 1 in Oslo. \nYou must not know anything about singing or have any previous singing training. Everyone in the target group is welcome. \nWelcome!
URL:https://www.skeivverden.no/event/skeiv-verden-oslo-og-ostlandets-kor/2026-02-27/
LOCATION:Skeiv Verden Oslo\, Torggata 1\, Oslo\, 0181\, Norway
CATEGORIES:LokalAktivitet
END:VEVENT
BEGIN:VEVENT
DTSTART;TZID=UTC:20260227T180000
DTEND;TZID=UTC:20260227T200000
DTSTAMP:20260422T180919
CREATED:20260209T084031Z
LAST-MODIFIED:20260209T084102Z
UID:10001153-1772215200-1772222400@www.skeivverden.no
SUMMARY:Skeiv Kafe i Trondheim
DESCRIPTION:Velkommen til Skeiv Kafe i Trondheim\, alle sammen! \nSkeiv Kafe er en trygg møteplass for LHBTQIA+ personer med minoritetsbakgrunn\, hvor de er majoriteten og kan møte andre som seg selv. \nVi samles med deilig mat og god stemning annenhver lørdag! \nOm du har spørsmål\, send en epost til midt-norge@skeivverden.no. \nFor English click on the flag at the bottom of the page.
URL:https://www.skeivverden.no/event/skeiv-kafe-in-trondheim/2026-02-27/
LOCATION:Rødhuset
END:VEVENT
END:VCALENDAR